BEGIN:VCALENDAR
VERSION:2.0
PRODID:-//wp-events-plugin.com//7.2.3.1//EN
BEGIN:VEVENT
UID:2002@glennmillerorchestra.com
DTSTART:20260620T190000Z
DTEND:20260620T190000Z
DTSTAMP:20250429T162203Z
URL:https://glennmillerorchestra.com/tour-schedule/1940s-wwii-era-ball-at-
 the-boulder-airport-5/
SUMMARY:1940's WWII Era Ball at the Boulder Airport
DESCRIPTION:
CATEGORIES:Dance
LOCATION:Boulder Municipal Airport\, 3327 Airport Road\, Boulder\, CO\, Uni
 ted States
GEO:40.037275;-105.23276900000002
X-APPLE-STRUCTURED-LOCATION;VALUE=URI;X-ADDRESS=3327 Airport Road\, Boulder
 \, CO\, United States;X-APPLE-RADIUS=100;X-TITLE=Boulder Municipal Airport
 :geo:40.037275,-105.23276900000002
END:VEVENT
END:VCALENDAR