BEGIN:VCALENDAR
VERSION:2.0
PRODID:-//wp-events-plugin.com//7.2.3.1//EN
BEGIN:VEVENT
UID:2096@glennmillerorchestra.com
DTSTART:20260817T190000Z
DTEND:20260817T190000Z
DTSTAMP:20251205T163825Z
URL:https://glennmillerorchestra.com/tour-schedule/academy-of-music-3/
SUMMARY:Academy of Music
DESCRIPTION:
CATEGORIES:Concert
LOCATION:Academy of Music\, 274 Main St\, Northampton\, MA\, United States
X-APPLE-STRUCTURED-LOCATION;VALUE=URI;X-ADDRESS=274 Main St\, Northampton\,
  MA\, United States;X-APPLE-RADIUS=100;X-TITLE=Academy of Music:geo:0,0
END:VEVENT
END:VCALENDAR