BEGIN:VCALENDAR
VERSION:2.0
PRODID:-//wp-events-plugin.com//7.2.3.1//EN
BEGIN:VEVENT
UID:2061@glennmillerorchestra.com
DTSTART:20260529T190000Z
DTEND:20260529T190000Z
DTSTAMP:20250923T143211Z
URL:https://glennmillerorchestra.com/tour-schedule/avalon-theatre-9/
SUMMARY:Avalon Theatre
DESCRIPTION:
CATEGORIES:Concert
LOCATION:Avalon Theatre\, 40 E. Dover Street\, Easton\, MD\, 21601\, United
  States
GEO:38.77411000000001;-76.07498399999997
X-APPLE-STRUCTURED-LOCATION;VALUE=URI;X-ADDRESS=40 E. Dover Street\, Easton
 \, MD\, 21601\, United States;X-APPLE-RADIUS=100;X-TITLE=Avalon Theatre:ge
 o:38.77411000000001,-76.07498399999997
END:VEVENT
END:VCALENDAR