BEGIN:VCALENDAR
VERSION:2.0
PRODID:-//wp-events-plugin.com//7.2.3.1//EN
BEGIN:VEVENT
UID:2136@glennmillerorchestra.com
DTSTART:20261110T190000Z
DTEND:20261110T190000Z
DTSTAMP:20260312T164354Z
URL:https://glennmillerorchestra.com/tour-schedule/blue-gate-performing-ar
 ts-center-2-6/
SUMMARY:Blue Gate Performing Arts Center
DESCRIPTION:Battle of the Big Bands with the Tommy Dorsey Orchestra\n\n
CATEGORIES:Concert
LOCATION:Blue Gate Performing Arts Center\, 175 N. Van Buren Street\, Ships
 hewana\, IN\, United States
X-APPLE-STRUCTURED-LOCATION;VALUE=URI;X-ADDRESS=175 N. Van Buren Street\, S
 hipshewana\, IN\, United States;X-APPLE-RADIUS=100;X-TITLE=Blue Gate Perfo
 rming Arts Center:geo:0,0
END:VEVENT
END:VCALENDAR