BEGIN:VCALENDAR
VERSION:2.0
PRODID:-//wp-events-plugin.com//7.2.3.1//EN
BEGIN:VEVENT
UID:2108@glennmillerorchestra.com
DTSTART:20261108T190000Z
DTEND:20261108T190000Z
DTSTAMP:20260129T203204Z
URL:https://glennmillerorchestra.com/tour-schedule/buckman-arts-center-3/
SUMMARY:Buckman Arts Center
DESCRIPTION:
CATEGORIES:Concert
LOCATION:Buckman Arts Center\, 60 Perkins Extended\, Memphis\, TN\, 38117\,
  United States
X-APPLE-STRUCTURED-LOCATION;VALUE=URI;X-ADDRESS=60 Perkins Extended\, Memph
 is\, TN\, 38117\, United States;X-APPLE-RADIUS=100;X-TITLE=Buckman Arts Ce
 nter:geo:0,0
END:VEVENT
END:VCALENDAR