BEGIN:VCALENDAR
VERSION:2.0
PRODID:-//wp-events-plugin.com//7.2.3.1//EN
BEGIN:VEVENT
UID:2000@glennmillerorchestra.com
DTSTART:20260602T190000Z
DTEND:20260602T190000Z
DTSTAMP:20250429T162017Z
URL:https://glennmillerorchestra.com/tour-schedule/charleston-music-hall-4
 /
SUMMARY:Charleston Music Hall
DESCRIPTION:
CATEGORIES:Concert
LOCATION:Charleston Music Hall\, 37 John St\, Charleston\, SC\, United Stat
 es
X-APPLE-STRUCTURED-LOCATION;VALUE=URI;X-ADDRESS=37 John St\, Charleston\, S
 C\, United States;X-APPLE-RADIUS=100;X-TITLE=Charleston Music Hall:geo:0,0
END:VEVENT
END:VCALENDAR