BEGIN:VCALENDAR
VERSION:2.0
PRODID:-//wp-events-plugin.com//7.2.3.1//EN
BEGIN:VEVENT
UID:2090@glennmillerorchestra.com
DTSTART:20260805T193000Z
DTEND:20260805T193000Z
DTSTAMP:20251205T163246Z
URL:https://glennmillerorchestra.com/tour-schedule/cheboygan-opera-house-9
 /
SUMMARY:Cheboygan Opera House
DESCRIPTION:
CATEGORIES:Concert
LOCATION:Cheboygan Opera House\, 403 N. Huron St.\, Cheboygan\, MI\, United
  States
GEO:45.6484585;-84.47462359999997
X-APPLE-STRUCTURED-LOCATION;VALUE=URI;X-ADDRESS=403 N. Huron St.\, Cheboyga
 n\, MI\, United States;X-APPLE-RADIUS=100;X-TITLE=Cheboygan Opera House:ge
 o:45.6484585,-84.47462359999997
END:VEVENT
END:VCALENDAR