BEGIN:VCALENDAR
VERSION:2.0
PRODID:-//wp-events-plugin.com//7.2.3.1//EN
BEGIN:VEVENT
UID:2120@glennmillerorchestra.com
DTSTART:20260613T193000Z
DTEND:20260613T193000Z
DTSTAMP:20260218T204231Z
URL:https://glennmillerorchestra.com/tour-schedule/clarinda-high-school-23
 /
SUMMARY:Clarinda High School
DESCRIPTION:Glenn Miller Birthplace Festival\n\nhttp://glennmiller.org/
CATEGORIES:Dance
LOCATION:Clarinda High School\, 100 North Cardinal Drive\, Clarinda\, IA\, 
 United States
GEO:40.7386549;-95.0482642
X-APPLE-STRUCTURED-LOCATION;VALUE=URI;X-ADDRESS=100 North Cardinal Drive\, 
 Clarinda\, IA\, United States;X-APPLE-RADIUS=100;X-TITLE=Clarinda High Sch
 ool:geo:40.7386549,-95.0482642
END:VEVENT
END:VCALENDAR