BEGIN:VCALENDAR
VERSION:2.0
PRODID:-//wp-events-plugin.com//7.2.3.1//EN
BEGIN:VEVENT
UID:2100@glennmillerorchestra.com
DTSTART:20270119T193000Z
DTEND:20270119T193000Z
DTSTAMP:20251205T164210Z
URL:https://glennmillerorchestra.com/tour-schedule/coral-shores-hs-pac-2/
SUMMARY:Coral Shores HS PAC
DESCRIPTION:
CATEGORIES:Concert
LOCATION:Coral Shores High School PAC\, 89901 Old Hwy\, Tavernier\, FL\, Un
 ited States
X-APPLE-STRUCTURED-LOCATION;VALUE=URI;X-ADDRESS=89901 Old Hwy\, Tavernier\,
  FL\, United States;X-APPLE-RADIUS=100;X-TITLE=Coral Shores High School PA
 C:geo:0,0
END:VEVENT
END:VCALENDAR