BEGIN:VCALENDAR
VERSION:2.0
PRODID:-//wp-events-plugin.com//7.2.3.1//EN
BEGIN:VEVENT
UID:2047@glennmillerorchestra.com
DTSTART:20260615T190000Z
DTEND:20260615T190000Z
DTSTAMP:20250812T151612Z
URL:https://glennmillerorchestra.com/tour-schedule/coralville-center-10/
SUMMARY:Coralville Center
DESCRIPTION:
CATEGORIES:Concert
LOCATION:Coralville Center for the Performing Arts\, 1301 5th St\, Coralvil
 le\, IA\, United States
GEO:41.676896;-91.58164399999998
X-APPLE-STRUCTURED-LOCATION;VALUE=URI;X-ADDRESS=1301 5th St\, Coralville\, 
 IA\, United States;X-APPLE-RADIUS=100;X-TITLE=Coralville Center for the Pe
 rforming Arts:geo:41.676896,-91.58164399999998
END:VEVENT
END:VCALENDAR