BEGIN:VCALENDAR
VERSION:2.0
PRODID:-//wp-events-plugin.com//7.2.3.1//EN
BEGIN:VEVENT
UID:2046@glennmillerorchestra.com
DTSTART:20260608T191500Z
DTEND:20260608T191500Z
DTSTAMP:20250812T151535Z
URL:https://glennmillerorchestra.com/tour-schedule/derby-dinner-playhouse-
 23/
SUMMARY:Derby Dinner Playhouse
DESCRIPTION:
CATEGORIES:Concert
LOCATION:Derby Dinner Playhouse\, 525 Marriott Drive\, Clarksville\, IN\, U
 nited States
GEO:38.2805855;-85.75509729999999
X-APPLE-STRUCTURED-LOCATION;VALUE=URI;X-ADDRESS=525 Marriott Drive\, Clarks
 ville\, IN\, United States;X-APPLE-RADIUS=100;X-TITLE=Derby Dinner Playhou
 se:geo:38.2805855,-85.75509729999999
END:VEVENT
END:VCALENDAR