BEGIN:VCALENDAR
VERSION:2.0
PRODID:-//wp-events-plugin.com//7.2.3.1//EN
BEGIN:VEVENT
UID:2024@glennmillerorchestra.com
DTSTART:20260606T150000Z
DTEND:20260606T150000Z
DTSTAMP:20250715T182036Z
URL:https://glennmillerorchestra.com/tour-schedule/dixie-carter-pac-2-2/
SUMMARY:Dixie Carter PAC
DESCRIPTION:
CATEGORIES:Concert
LOCATION:Dixie Carter PAC\, 191 Court Square\, Huntingdon\, TN\, United Sta
 tes
GEO:36.0006301;-88.4273384
X-APPLE-STRUCTURED-LOCATION;VALUE=URI;X-ADDRESS=191 Court Square\, Huntingd
 on\, TN\, United States;X-APPLE-RADIUS=100;X-TITLE=Dixie Carter PAC:geo:36
 .0006301,-88.4273384
END:VEVENT
END:VCALENDAR