BEGIN:VCALENDAR
VERSION:2.0
PRODID:-//wp-events-plugin.com//7.2.3.1//EN
BEGIN:VEVENT
UID:2147@glennmillerorchestra.com
DTSTART:20260813T190000Z
DTEND:20260813T190000Z
DTSTAMP:20260416T145429Z
URL:https://glennmillerorchestra.com/tour-schedule/elkton-music-hall-2/
SUMMARY:Elkton Music Hall
DESCRIPTION:
CATEGORIES:Concert
LOCATION:Elkton Music Hall\, 107 North Street\, Elkton\, MD\, 21921\, Unite
 d States
X-APPLE-STRUCTURED-LOCATION;VALUE=URI;X-ADDRESS=107 North Street\, Elkton\,
  MD\, 21921\, United States;X-APPLE-RADIUS=100;X-TITLE=Elkton Music Hall:g
 eo:0,0
END:VEVENT
END:VCALENDAR