BEGIN:VCALENDAR
VERSION:2.0
PRODID:-//wp-events-plugin.com//7.2.3.1//EN
BEGIN:VEVENT
UID:2101@glennmillerorchestra.com
DTSTART:20270221T150000Z
DTEND:20270221T150000Z
DTSTAMP:20251205T164312Z
URL:https://glennmillerorchestra.com/tour-schedule/fredericksburg-united-m
 ethodist-church-2/
SUMMARY:Fredericksburg United Methodist Church
DESCRIPTION:
CATEGORIES:Concert
LOCATION:Fredericksburg United Methodist Church\, 302 E Austin St\, Frederi
 cksburg\, TX\, United States
X-APPLE-STRUCTURED-LOCATION;VALUE=URI;X-ADDRESS=302 E Austin St\, Frederick
 sburg\, TX\, United States;X-APPLE-RADIUS=100;X-TITLE=Fredericksburg Unite
 d Methodist Church:geo:0,0
END:VEVENT
END:VCALENDAR