BEGIN:VCALENDAR
VERSION:2.0
PRODID:-//wp-events-plugin.com//7.2.3.1//EN
BEGIN:VEVENT
UID:2056@glennmillerorchestra.com
DTSTART:20260428T190000Z
DTEND:20260428T190000Z
DTSTAMP:20250828T144506Z
URL:https://glennmillerorchestra.com/tour-schedule/hoogland-center-for-the
 -arts-2-2/
SUMMARY:Hoogland Center for the Arts
DESCRIPTION:
CATEGORIES:Concert
LOCATION:Hoogland Center for the Arts\, 420 S. 6th Street\, Springfield\, I
 L\, United States
GEO:39.7976345;-89.64759509999999
X-APPLE-STRUCTURED-LOCATION;VALUE=URI;X-ADDRESS=420 S. 6th Street\, Springf
 ield\, IL\, United States;X-APPLE-RADIUS=100;X-TITLE=Hoogland Center for t
 he Arts:geo:39.7976345,-89.64759509999999
END:VEVENT
END:VCALENDAR