BEGIN:VCALENDAR
VERSION:2.0
PRODID:-//wp-events-plugin.com//7.2.3.1//EN
BEGIN:VEVENT
UID:2141@glennmillerorchestra.com
DTSTART:20260725T190000Z
DTEND:20260725T190000Z
DTSTAMP:20260326T195255Z
URL:https://glennmillerorchestra.com/tour-schedule/illinois-central-colleg
 e-pac-4/
SUMMARY:Illinois Central College PAC
DESCRIPTION:
CATEGORIES:Concert
LOCATION:The Arts at ICC\, 1 College Drive\, Peoria\, IL\, United States
GEO:40.7100864;-89.50966599999998
X-APPLE-STRUCTURED-LOCATION;VALUE=URI;X-ADDRESS=1 College Drive\, Peoria\, 
 IL\, United States;X-APPLE-RADIUS=100;X-TITLE=The Arts at ICC:geo:40.71008
 64,-89.50966599999998
END:VEVENT
END:VCALENDAR