BEGIN:VCALENDAR
VERSION:2.0
PRODID:-//wp-events-plugin.com//7.2.3.1//EN
BEGIN:VEVENT
UID:2023@glennmillerorchestra.com
DTSTART:20260505T190000Z
DTEND:20260505T190000Z
DTSTAMP:20250625T153442Z
URL:https://glennmillerorchestra.com/tour-schedule/katharine-hepburn-cultu
 ral-arts-center-5/
SUMMARY:Katharine Hepburn Cultural Arts Center
DESCRIPTION:
CATEGORIES:Concert
LOCATION:Katharine Hepburn Cultural Arts Center\, 300 Main Street\, Old Say
 brook\, CT\, United States
X-APPLE-STRUCTURED-LOCATION;VALUE=URI;X-ADDRESS=300 Main Street\, Old Saybr
 ook\, CT\, United States;X-APPLE-RADIUS=100;X-TITLE=Katharine Hepburn Cult
 ural Arts Center:geo:0,0
END:VEVENT
END:VCALENDAR