BEGIN:VCALENDAR
VERSION:2.0
PRODID:-//wp-events-plugin.com//7.2.3.1//EN
BEGIN:VEVENT
UID:2130@glennmillerorchestra.com
DTSTART:20270128T190000Z
DTEND:20270128T190000Z
DTSTAMP:20260224T222035Z
URL:https://glennmillerorchestra.com/tour-schedule/king-opera-house-3/
SUMMARY:King Opera House
DESCRIPTION:
CATEGORIES:Concert
LOCATION:King Opera House\, 427 Main Street\, Van Buren\, AR\, United State
 s
X-APPLE-STRUCTURED-LOCATION;VALUE=URI;X-ADDRESS=427 Main Street\, Van Buren
 \, AR\, United States;X-APPLE-RADIUS=100;X-TITLE=King Opera House:geo:0,0
END:VEVENT
END:VCALENDAR