BEGIN:VCALENDAR
VERSION:2.0
PRODID:-//wp-events-plugin.com//7.2.3.1//EN
BEGIN:VEVENT
UID:2142@glennmillerorchestra.com
DTSTART:20261206T190000Z
DTEND:20261206T190000Z
DTSTAMP:20260327T181926Z
URL:https://glennmillerorchestra.com/tour-schedule/kingsbury-hall-2/
SUMMARY:Kingsbury Hall
DESCRIPTION:
CATEGORIES:Concert
LOCATION:Kingsbury Hall\, 1395 East Presidents Circle\, Salt Lake City\, UT
 \, 84112\, United States
X-APPLE-STRUCTURED-LOCATION;VALUE=URI;X-ADDRESS=1395 East Presidents Circle
 \, Salt Lake City\, UT\, 84112\, United States;X-APPLE-RADIUS=100;X-TITLE=
 Kingsbury Hall:geo:0,0
END:VEVENT
END:VCALENDAR