BEGIN:VCALENDAR
VERSION:2.0
PRODID:-//wp-events-plugin.com//7.2.3.1//EN
BEGIN:VEVENT
UID:2148@glennmillerorchestra.com
DTSTART:20270320T150000Z
DTEND:20270320T150000Z
DTSTAMP:20260416T155027Z
URL:https://glennmillerorchestra.com/tour-schedule/legacy-theater-2/
SUMMARY:Legacy Theater
DESCRIPTION:
CATEGORIES:Concert
LOCATION:Legacy Theater\, 1160 Buchanan Street\, Carthage\, IL\, 62321\, Un
 ited States
X-APPLE-STRUCTURED-LOCATION;VALUE=URI;X-ADDRESS=1160 Buchanan Street\, Cart
 hage\, IL\, 62321\, United States;X-APPLE-RADIUS=100;X-TITLE=Legacy Theate
 r:geo:0,0
END:VEVENT
END:VCALENDAR