BEGIN:VCALENDAR
VERSION:2.0
PRODID:-//wp-events-plugin.com//7.2.3.1//EN
BEGIN:VEVENT
UID:2094@glennmillerorchestra.com
DTSTART:20260809T140000Z
DTEND:20260809T140000Z
DTSTAMP:20251205T163611Z
URL:https://glennmillerorchestra.com/tour-schedule/lexington-village-theat
 re-16/
SUMMARY:Lexington Village Theatre
DESCRIPTION:\n\n&nbsp\;
CATEGORIES:Concert
LOCATION:Lexington Village Theatre\, 7318 Huron Avenue\, Lexington\, MI\, U
 nited States
GEO:43.268417;-82.528625
X-APPLE-STRUCTURED-LOCATION;VALUE=URI;X-ADDRESS=7318 Huron Avenue\, Lexingt
 on\, MI\, United States;X-APPLE-RADIUS=100;X-TITLE=Lexington Village Theat
 re:geo:43.268417,-82.528625
END:VEVENT
END:VCALENDAR