BEGIN:VCALENDAR
VERSION:2.0
PRODID:-//wp-events-plugin.com//7.2.3.1//EN
BEGIN:VEVENT
UID:2135@glennmillerorchestra.com
DTSTART:20260618T193000Z
DTEND:20260618T193000Z
DTSTAMP:20260310T203002Z
URL:https://glennmillerorchestra.com/tour-schedule/lied-center-2/
SUMMARY:Lied Center
DESCRIPTION:
CATEGORIES:Concert
LOCATION:Lied Center for Performing Arts\, 12th and R Streets - P.O. Box 88
 0151\, Lincoln\, NE\, United States
GEO:40.816944;-96.70401419999996
X-APPLE-STRUCTURED-LOCATION;VALUE=URI;X-ADDRESS=12th and R Streets - P.O. B
 ox 880151\, Lincoln\, NE\, United States;X-APPLE-RADIUS=100;X-TITLE=Lied C
 enter for Performing Arts:geo:40.816944,-96.70401419999996
END:VEVENT
END:VCALENDAR