BEGIN:VCALENDAR
VERSION:2.0
PRODID:-//wp-events-plugin.com//7.2.3.1//EN
BEGIN:VEVENT
UID:2131@glennmillerorchestra.com
DTSTART:20260729T190000Z
DTEND:20260729T190000Z
DTSTAMP:20260303T204015Z
URL:https://glennmillerorchestra.com/tour-schedule/lyche-theatre-2/
SUMMARY:Lyche Theatre
DESCRIPTION:
CATEGORIES:Concert
LOCATION:Lyche Theatre\, 428 Front Street South\, La Crosse\, WI\, 54601\, 
 United States
X-APPLE-STRUCTURED-LOCATION;VALUE=URI;X-ADDRESS=428 Front Street South\, La
  Crosse\, WI\, 54601\, United States;X-APPLE-RADIUS=100;X-TITLE=Lyche Thea
 tre:geo:0,0
END:VEVENT
END:VCALENDAR