BEGIN:VCALENDAR
VERSION:2.0
PRODID:-//wp-events-plugin.com//7.2.3.1//EN
BEGIN:VEVENT
UID:2099@glennmillerorchestra.com
DTSTART:20270118T193000Z
DTEND:20270118T193000Z
DTSTAMP:20251205T164132Z
URL:https://glennmillerorchestra.com/tour-schedule/marathon-high-school-2-
 3/
SUMMARY:Marathon High School
DESCRIPTION:
CATEGORIES:Concert
LOCATION:Marathon High School\, 350 Sombrero Beach Raod\, Marathon\, FL\, U
 nited States
X-APPLE-STRUCTURED-LOCATION;VALUE=URI;X-ADDRESS=350 Sombrero Beach Raod\, M
 arathon\, FL\, United States;X-APPLE-RADIUS=100;X-TITLE=Marathon High Scho
 ol:geo:0,0
END:VEVENT
END:VCALENDAR