BEGIN:VCALENDAR
VERSION:2.0
PRODID:-//wp-events-plugin.com//7.2.3.1//EN
BEGIN:VEVENT
UID:2060@glennmillerorchestra.com
DTSTART:20260515T193000Z
DTEND:20260515T193000Z
DTSTAMP:20250923T143056Z
URL:https://glennmillerorchestra.com/tour-schedule/mayo-performing-arts-ce
 nter-4/
SUMMARY:Mayo Performing Arts Center
DESCRIPTION:
CATEGORIES:Concert
LOCATION:Mayo Performing Arts Center\, 100 South Street\, Morristown\, NJ\,
  United States
GEO:40.79427099999999;-74.47796
X-APPLE-STRUCTURED-LOCATION;VALUE=URI;X-ADDRESS=100 South Street\, Morristo
 wn\, NJ\, United States;X-APPLE-RADIUS=100;X-TITLE=Mayo Performing Arts Ce
 nter:geo:40.79427099999999,-74.47796
END:VEVENT
END:VCALENDAR