BEGIN:VCALENDAR
VERSION:2.0
PRODID:-//wp-events-plugin.com//7.2.3.1//EN
BEGIN:VEVENT
UID:2145@glennmillerorchestra.com
DTSTART:20260721T190000Z
DTEND:20260721T190000Z
DTSTAMP:20260407T185254Z
URL:https://glennmillerorchestra.com/tour-schedule/mcpherson-opera-houce/
SUMMARY:McPherson Opera Houce
DESCRIPTION:
CATEGORIES:Concert
LOCATION:McPherson Opera House\, 219 South Main Street\, McPherson\, KS\, 6
 7460\, United States
X-APPLE-STRUCTURED-LOCATION;VALUE=URI;X-ADDRESS=219 South Main Street\, McP
 herson\, KS\, 67460\, United States;X-APPLE-RADIUS=100;X-TITLE=McPherson O
 pera House:geo:0,0
END:VEVENT
END:VCALENDAR