BEGIN:VCALENDAR
VERSION:2.0
PRODID:-//wp-events-plugin.com//7.2.3.1//EN
BEGIN:VEVENT
UID:2128@glennmillerorchestra.com
DTSTART:20261017T190000Z
DTEND:20261017T190000Z
DTSTAMP:20260224T215443Z
URL:https://glennmillerorchestra.com/tour-schedule/missouri-theatre-2-3/
SUMMARY:Missouri Theatre
DESCRIPTION:
CATEGORIES:Concert
LOCATION:Missouri Theatre\, 203 S. 9th Street\, Columbia\, MO\, United Stat
 es
GEO:38.9493032;-92.32774069999999
X-APPLE-STRUCTURED-LOCATION;VALUE=URI;X-ADDRESS=203 S. 9th Street\, Columbi
 a\, MO\, United States;X-APPLE-RADIUS=100;X-TITLE=Missouri Theatre:geo:38.
 9493032,-92.32774069999999
END:VEVENT
END:VCALENDAR