BEGIN:VCALENDAR
VERSION:2.0
PRODID:-//wp-events-plugin.com//7.2.3.1//EN
BEGIN:VEVENT
UID:2083@glennmillerorchestra.com
DTSTART:20260611T193000Z
DTEND:20260611T193000Z
DTSTAMP:20251121T194947Z
URL:https://glennmillerorchestra.com/tour-schedule/muriel-kauffman-theatre
 -2-2/
SUMMARY:Muriel Kauffman Theatre
DESCRIPTION:
CATEGORIES:Concert
LOCATION:Muriel Kauffman Theatre\, 1601 Broadway Blvd.\, Kansas City\, MO\,
  United States
GEO:39.0941048;-94.58745060000001
X-APPLE-STRUCTURED-LOCATION;VALUE=URI;X-ADDRESS=1601 Broadway Blvd.\, Kansa
 s City\, MO\, United States;X-APPLE-RADIUS=100;X-TITLE=Muriel Kauffman The
 atre:geo:39.0941048,-94.58745060000001
END:VEVENT
END:VCALENDAR