BEGIN:VCALENDAR
VERSION:2.0
PRODID:-//wp-events-plugin.com//7.2.3.1//EN
BEGIN:VEVENT
UID:2127@glennmillerorchestra.com
DTSTART:20270203T190000Z
DTEND:20270203T190000Z
DTSTAMP:20260218T213108Z
URL:https://glennmillerorchestra.com/tour-schedule/naval-air-museum-9/
SUMMARY:Naval Air Museum
DESCRIPTION:
CATEGORIES:Concert
LOCATION:Naval Air Museum\, 1750 Radford Blvd.\, Pensacola\, FL\, United St
 ates
GEO:30.3495094;-87.30361820000002
X-APPLE-STRUCTURED-LOCATION;VALUE=URI;X-ADDRESS=1750 Radford Blvd.\, Pensac
 ola\, FL\, United States;X-APPLE-RADIUS=100;X-TITLE=Naval Air Museum:geo:3
 0.3495094,-87.30361820000002
END:VEVENT
END:VCALENDAR