BEGIN:VCALENDAR
VERSION:2.0
PRODID:-//wp-events-plugin.com//7.2.3.1//EN
BEGIN:VEVENT
UID:1983@glennmillerorchestra.com
DTSTART:20261119T193000Z
DTEND:20261119T193000Z
DTSTAMP:20250828T144942Z
URL:https://glennmillerorchestra.com/tour-schedule/nelson-hall-elim-park-3
 /
SUMMARY:Nelson Hall @ Elim Park
DESCRIPTION:
CATEGORIES:Concert
LOCATION:Nelson Hall @ Elim Park\, 150 Cook Hill Rd\, Cheshire\, CT\, Unite
 d States
X-APPLE-STRUCTURED-LOCATION;VALUE=URI;X-ADDRESS=150 Cook Hill Rd\, Cheshire
 \, CT\, United States;X-APPLE-RADIUS=100;X-TITLE=Nelson Hall @ Elim Park:g
 eo:0,0
END:VEVENT
END:VCALENDAR