BEGIN:VCALENDAR
VERSION:2.0
PRODID:-//wp-events-plugin.com//7.2.3.1//EN
BEGIN:VEVENT
UID:2138@glennmillerorchestra.com
DTSTART:20261208T190000Z
DTEND:20261208T190000Z
DTSTAMP:20260323T154216Z
URL:https://glennmillerorchestra.com/tour-schedule/newmark-theatre-3/
SUMMARY:Newmark Theatre
DESCRIPTION:
CATEGORIES:Concert
LOCATION:Newmark Theatre\, 1111 SW Broadway Avenue\, Portland\, OR\, United
  States
GEO:45.516714;-122.68169699999999
X-APPLE-STRUCTURED-LOCATION;VALUE=URI;X-ADDRESS=1111 SW Broadway Avenue\, P
 ortland\, OR\, United States;X-APPLE-RADIUS=100;X-TITLE=Newmark Theatre:ge
 o:45.516714,-122.68169699999999
END:VEVENT
END:VCALENDAR