BEGIN:VCALENDAR
VERSION:2.0
PRODID:-//wp-events-plugin.com//7.2.3.1//EN
BEGIN:VEVENT
UID:2126@glennmillerorchestra.com
DTSTART:20261122T140000Z
DTEND:20261122T140000Z
DTSTAMP:20260218T212733Z
URL:https://glennmillerorchestra.com/tour-schedule/newport-opera-house-5/
SUMMARY:Newport Opera House
DESCRIPTION:
CATEGORIES:Concert
LOCATION:Newport Opera House\, 20 Main St\, Newport\, NH\, United States
X-APPLE-STRUCTURED-LOCATION;VALUE=URI;X-ADDRESS=20 Main St\, Newport\, NH\,
  United States;X-APPLE-RADIUS=100;X-TITLE=Newport Opera House:geo:0,0
END:VEVENT
END:VCALENDAR