BEGIN:VCALENDAR
VERSION:2.0
PRODID:-//wp-events-plugin.com//7.2.3.1//EN
BEGIN:VEVENT
UID:2065@glennmillerorchestra.com
DTSTART:20260802T150000Z
DTEND:20260802T150000Z
DTSTAMP:20250923T143727Z
URL:https://glennmillerorchestra.com/tour-schedule/north-shore-center-4/
SUMMARY:North Shore Center
DESCRIPTION:
CATEGORIES:Concert
LOCATION:North Shore Center\, 9501 Skokie Blvd\, Skokie\, IL\, United State
 s
X-APPLE-STRUCTURED-LOCATION;VALUE=URI;X-ADDRESS=9501 Skokie Blvd\, Skokie\,
  IL\, United States;X-APPLE-RADIUS=100;X-TITLE=North Shore Center:geo:0,0
END:VEVENT
END:VCALENDAR