BEGIN:VCALENDAR
VERSION:2.0
PRODID:-//wp-events-plugin.com//7.2.3.1//EN
BEGIN:VEVENT
UID:2028@glennmillerorchestra.com
DTSTART:20261113T190000Z
DTEND:20261113T190000Z
DTSTAMP:20250707T162819Z
URL:https://glennmillerorchestra.com/tour-schedule/ohio-star-theater-2-9/
SUMMARY:Ohio Star Theater
DESCRIPTION:
CATEGORIES:Concert
LOCATION:Ohio Star Theater\, 1387 Old\, OH-39\, Sugarcreek\, OH\, United St
 ates
X-APPLE-STRUCTURED-LOCATION;VALUE=URI;X-ADDRESS=1387 Old\, OH-39\, Sugarcre
 ek\, OH\, United States;X-APPLE-RADIUS=100;X-TITLE=Ohio Star Theater:geo:0
 ,0
END:VEVENT
END:VCALENDAR