BEGIN:VCALENDAR
VERSION:2.0
PRODID:-//wp-events-plugin.com//7.2.3.1//EN
BEGIN:VEVENT
UID:2125@glennmillerorchestra.com
DTSTART:20261120T200000Z
DTEND:20261120T200000Z
DTSTAMP:20260218T212450Z
URL:https://glennmillerorchestra.com/tour-schedule/omni-mount-washington-r
 esort-spa/
SUMMARY:Omni Mount Washington Resort & Spa
DESCRIPTION:
CATEGORIES:Dance
LOCATION:Omni Mount Washington Resort & Spa\, 310 Mt. Washington Hotel Rd.\
 , Bretton Woods\, NH\, United States
GEO:44.257157;-71.4394
X-APPLE-STRUCTURED-LOCATION;VALUE=URI;X-ADDRESS=310 Mt. Washington Hotel Rd
 .\, Bretton Woods\, NH\, United States;X-APPLE-RADIUS=100;X-TITLE=Omni Mou
 nt Washington Resort & Spa:geo:44.257157,-71.4394
END:VEVENT
END:VCALENDAR