BEGIN:VCALENDAR
VERSION:2.0
PRODID:-//wp-events-plugin.com//7.2.3.1//EN
BEGIN:VEVENT
UID:2098@glennmillerorchestra.com
DTSTART:20261118T193000Z
DTEND:20261118T193000Z
DTSTAMP:20251205T164017Z
URL:https://glennmillerorchestra.com/tour-schedule/omni-parker-house-8/
SUMMARY:Omni Parker House
DESCRIPTION:
CATEGORIES:Concert
LOCATION:Omni Parker House\, 60 School Street\, Boston\, MA\, United States
GEO:42.3575872;-71.06020460000002
X-APPLE-STRUCTURED-LOCATION;VALUE=URI;X-ADDRESS=60 School Street\, Boston\,
  MA\, United States;X-APPLE-RADIUS=100;X-TITLE=Omni Parker House:geo:42.35
 75872,-71.06020460000002
END:VEVENT
END:VCALENDAR