BEGIN:VCALENDAR
VERSION:2.0
PRODID:-//wp-events-plugin.com//7.2.3.1//EN
BEGIN:VEVENT
UID:1626@glennmillerorchestra.com
DTSTART:20231217T150000Z
DTEND:20231217T150000Z
DTSTAMP:20230223T173357Z
URL:https://glennmillerorchestra.com/tour-schedule/ovens-auditorium-2/
SUMMARY:Ovens Auditorium
DESCRIPTION:
CATEGORIES:Concert
LOCATION:Ovens Auditorium\, 2700 E Independence Blvd\, Charlotte\, NC\, Uni
 ted States
X-APPLE-STRUCTURED-LOCATION;VALUE=URI;X-ADDRESS=2700 E Independence Blvd\, 
 Charlotte\, NC\, United States;X-APPLE-RADIUS=100;X-TITLE=Ovens Auditorium
 :geo:0,0
END:VEVENT
END:VCALENDAR