BEGIN:VCALENDAR
VERSION:2.0
PRODID:-//wp-events-plugin.com//7.2.3.1//EN
BEGIN:VEVENT
UID:2011@glennmillerorchestra.com
DTSTART:20260601T190000Z
DTEND:20260601T190000Z
DTSTAMP:20250613T150543Z
URL:https://glennmillerorchestra.com/tour-schedule/owens-auditorium-2/
SUMMARY:Owens Auditorium
DESCRIPTION:
CATEGORIES:Concert
LOCATION:Owens Auditorium\, 3395 Airport Road\, Pinehurst\, NC\, United Sta
 tes
X-APPLE-STRUCTURED-LOCATION;VALUE=URI;X-ADDRESS=3395 Airport Road\, Pinehur
 st\, NC\, United States;X-APPLE-RADIUS=100;X-TITLE=Owens Auditorium:geo:0,
 0
END:VEVENT
END:VCALENDAR