BEGIN:VCALENDAR
VERSION:2.0
PRODID:-//wp-events-plugin.com//7.2.3.1//EN
BEGIN:VEVENT
UID:2144@glennmillerorchestra.com
DTSTART:20260616T190000Z
DTEND:20260616T190000Z
DTSTAMP:20260407T183538Z
URL:https://glennmillerorchestra.com/tour-schedule/pablo-center-at-the-con
 fluence-2/
SUMMARY:Pablo Center at the Confluence
DESCRIPTION:
CATEGORIES:Concert
LOCATION:Pablo Center at the Confluence\, 128 Graham Avenue\, Eau Claire\, 
 WI\, 54701\, United States
X-APPLE-STRUCTURED-LOCATION;VALUE=URI;X-ADDRESS=128 Graham Avenue\, Eau Cla
 ire\, WI\, 54701\, United States;X-APPLE-RADIUS=100;X-TITLE=Pablo Center a
 t the Confluence:geo:0,0
END:VEVENT
END:VCALENDAR