BEGIN:VCALENDAR
VERSION:2.0
PRODID:-//wp-events-plugin.com//7.2.3.1//EN
BEGIN:VEVENT
UID:2137@glennmillerorchestra.com
DTSTART:20261201T190000Z
DTEND:20261201T190000Z
DTSTAMP:20260323T154554Z
URL:https://glennmillerorchestra.com/tour-schedule/pantages-theatre-2/
SUMMARY:Pantages Theatre
DESCRIPTION:
CATEGORIES:Concert
LOCATION:Pantages Theatre\, 710 Hennepin Ave\, Minneapolis\, MN\, United St
 ates
X-APPLE-STRUCTURED-LOCATION;VALUE=URI;X-ADDRESS=710 Hennepin Ave\, Minneapo
 lis\, MN\, United States;X-APPLE-RADIUS=100;X-TITLE=Pantages Theatre:geo:0
 ,0
END:VEVENT
END:VCALENDAR