BEGIN:VCALENDAR
VERSION:2.0
PRODID:-//wp-events-plugin.com//7.2.3.1//EN
BEGIN:VEVENT
UID:2080@glennmillerorchestra.com
DTSTART:20260728T133000Z
DTEND:20260728T133000Z
DTSTAMP:20251027T181059Z
URL:https://glennmillerorchestra.com/tour-schedule/paramount-center-for-th
 e-arts-4-3/
SUMMARY:Paramount Center for the Arts
DESCRIPTION:
CATEGORIES:Concert
LOCATION:Paramount Theatre\, 913 West St. Germain Street\, St. Cloud\, MN\,
  United States
GEO:45.5591793;-94.1635915
X-APPLE-STRUCTURED-LOCATION;VALUE=URI;X-ADDRESS=913 West St. Germain Street
 \, St. Cloud\, MN\, United States;X-APPLE-RADIUS=100;X-TITLE=Paramount The
 atre:geo:45.5591793,-94.1635915
END:VEVENT
END:VCALENDAR