BEGIN:VCALENDAR
VERSION:2.0
PRODID:-//wp-events-plugin.com//7.2.3.1//EN
BEGIN:VEVENT
UID:2139@glennmillerorchestra.com
DTSTART:20261218T190000Z
DTEND:20261218T190000Z
DTSTAMP:20260323T154326Z
URL:https://glennmillerorchestra.com/tour-schedule/plaza-theatre-4/
SUMMARY:Plaza Theatre
DESCRIPTION:
CATEGORIES:Concert
LOCATION:Plaza Theatre\, 125 W. Mills Ave.\, El Paso\, TX\, United States
GEO:31.7584399;-106.48941500000001
X-APPLE-STRUCTURED-LOCATION;VALUE=URI;X-ADDRESS=125 W. Mills Ave.\, El Paso
 \, TX\, United States;X-APPLE-RADIUS=100;X-TITLE=Plaza Theatre:geo:31.7584
 399,-106.48941500000001
END:VEVENT
END:VCALENDAR