BEGIN:VCALENDAR
VERSION:2.0
PRODID:-//wp-events-plugin.com//7.2.3.1//EN
BEGIN:VEVENT
UID:2088@glennmillerorchestra.com
DTSTART:20260626T190000Z
DTEND:20260626T190000Z
DTSTAMP:20260212T144315Z
URL:https://glennmillerorchestra.com/tour-schedule/ramsdell-regional-cente
 r-for-the-arts/
SUMMARY:Ramsdell Regional Center for the Arts
DESCRIPTION:
CATEGORIES:Concert
LOCATION:Ramsdell Theatre & Cultural Center\, 101 Maple St.\, Manistee\, MI
 \, United States
GEO:44.2459199;-86.32378940000001
X-APPLE-STRUCTURED-LOCATION;VALUE=URI;X-ADDRESS=101 Maple St.\, Manistee\, 
 MI\, United States;X-APPLE-RADIUS=100;X-TITLE=Ramsdell Theatre & Cultural 
 Center:geo:44.2459199,-86.32378940000001
END:VEVENT
END:VCALENDAR