BEGIN:VCALENDAR
VERSION:2.0
PRODID:-//wp-events-plugin.com//7.2.3.1//EN
BEGIN:VEVENT
UID:2032@glennmillerorchestra.com
DTSTART:20270202T190000Z
DTEND:20270202T190000Z
DTSTAMP:20251205T161240Z
URL:https://glennmillerorchestra.com/tour-schedule/randy-owen-center-2/
SUMMARY:Randy Owen Center
DESCRIPTION:Jacksonville State University
CATEGORIES:Concert
LOCATION:Randy Owen Center\, 700 Pelham Road N\, Jacksonville\, AL\, United
  States
X-APPLE-STRUCTURED-LOCATION;VALUE=URI;X-ADDRESS=700 Pelham Road N\, Jackson
 ville\, AL\, United States;X-APPLE-RADIUS=100;X-TITLE=Randy Owen Center:ge
 o:0,0
END:VEVENT
END:VCALENDAR