BEGIN:VCALENDAR
VERSION:2.0
PRODID:-//wp-events-plugin.com//7.2.3.1//EN
BEGIN:VEVENT
UID:2107@glennmillerorchestra.com
DTSTART:20260815T200000Z
DTEND:20260815T200000Z
DTSTAMP:20260129T195734Z
URL:https://glennmillerorchestra.com/tour-schedule/ridgefield-playhouse-10
 /
SUMMARY:Ridgefield Playhouse
DESCRIPTION:
CATEGORIES:Concert
LOCATION:Ridgefield Playhouse\, 80 East Ridge\, Ridgefield\, CT\, United St
 ates
GEO:41.2823573;-73.49312150000003
X-APPLE-STRUCTURED-LOCATION;VALUE=URI;X-ADDRESS=80 East Ridge\, Ridgefield\
 , CT\, United States;X-APPLE-RADIUS=100;X-TITLE=Ridgefield Playhouse:geo:4
 1.2823573,-73.49312150000003
END:VEVENT
END:VCALENDAR