BEGIN:VCALENDAR
VERSION:2.0
PRODID:-//wp-events-plugin.com//7.2.3.1//EN
BEGIN:VEVENT
UID:2044@glennmillerorchestra.com
DTSTART:20260509T160000Z
DTEND:20260509T160000Z
DTSTAMP:20251204T185659Z
URL:https://glennmillerorchestra.com/tour-schedule/riviera-theatre-4/
SUMMARY:Riviera Theatre
DESCRIPTION:
CATEGORIES:Concert
LOCATION:The Riviera Theatre\, 67 Webster Street\, North Tonawanda\, NY\, U
 nited States
GEO:43.0237369;-78.8771041
X-APPLE-STRUCTURED-LOCATION;VALUE=URI;X-ADDRESS=67 Webster Street\, North T
 onawanda\, NY\, United States;X-APPLE-RADIUS=100;X-TITLE=The Riviera Theat
 re:geo:43.0237369,-78.8771041
END:VEVENT
END:VCALENDAR