BEGIN:VCALENDAR
VERSION:2.0
PRODID:-//wp-events-plugin.com//7.2.3.1//EN
BEGIN:VEVENT
UID:2079@glennmillerorchestra.com
DTSTART:20260712T200000Z
DTEND:20260712T200000Z
DTSTAMP:20251027T180934Z
URL:https://glennmillerorchestra.com/tour-schedule/robert-z-hawkins-amphit
 heater-2-2/
SUMMARY:Robert Z. Hawkins Amphitheater
DESCRIPTION:
CATEGORIES:Concert
LOCATION:Robert Z. Hawkins Amphitheater\, 6000 Bartley Ranch Road\, Reno\, 
 NV\, United States
X-APPLE-STRUCTURED-LOCATION;VALUE=URI;X-ADDRESS=6000 Bartley Ranch Road\, R
 eno\, NV\, United States;X-APPLE-RADIUS=100;X-TITLE=Robert Z. Hawkins Amph
 itheater:geo:0,0
END:VEVENT
END:VCALENDAR