BEGIN:VCALENDAR
VERSION:2.0
PRODID:-//wp-events-plugin.com//7.2.3.1//EN
BEGIN:VEVENT
UID:2045@glennmillerorchestra.com
DTSTART:20260605T190000Z
DTEND:20260605T190000Z
DTSTAMP:20251119T152610Z
URL:https://glennmillerorchestra.com/tour-schedule/robinson-performance-ha
 ll-2-2/
SUMMARY:Robinson Performance Hall
DESCRIPTION:
CATEGORIES:Concert
LOCATION:Robinson Performance Hall\, 426 W. Markham Street\, Little Rock\, 
 AR\, United States
X-APPLE-STRUCTURED-LOCATION;VALUE=URI;X-ADDRESS=426 W. Markham Street\, Lit
 tle Rock\, AR\, United States;X-APPLE-RADIUS=100;X-TITLE=Robinson Performa
 nce Hall:geo:0,0
END:VEVENT
END:VCALENDAR