BEGIN:VCALENDAR
VERSION:2.0
PRODID:-//wp-events-plugin.com//7.2.3.1//EN
BEGIN:VEVENT
UID:1303@glennmillerorchestra.com
DTSTART:20260430T190000Z
DTEND:20260430T190000Z
DTSTAMP:20250828T144714Z
URL:https://glennmillerorchestra.com/tour-schedule/ruth-a-knoll-theater-2/
SUMMARY:Ruth A. Knoll Theater
DESCRIPTION:
CATEGORIES:Concert
LOCATION:Ruth A. Knoll Theater\, 147 N. Rural Street\, Hartford\, WI\, Unit
 ed States
GEO:43.3202309;-88.38164949999998
X-APPLE-STRUCTURED-LOCATION;VALUE=URI;X-ADDRESS=147 N. Rural Street\, Hartf
 ord\, WI\, United States;X-APPLE-RADIUS=100;X-TITLE=Ruth A. Knoll Theater:
 geo:43.3202309,-88.38164949999998
END:VEVENT
END:VCALENDAR