BEGIN:VCALENDAR
VERSION:2.0
PRODID:-//wp-events-plugin.com//7.2.3.1//EN
BEGIN:VEVENT
UID:2132@glennmillerorchestra.com
DTSTART:20260528T193000Z
DTEND:20260528T193000Z
DTSTAMP:20260304T150519Z
URL:https://glennmillerorchestra.com/tour-schedule/sellersville-theatre-11
 /
SUMMARY:Sellersville Theatre
DESCRIPTION:
CATEGORIES:Concert
LOCATION:Sellersville Theatre\, 24 West Temple Avenue\, Sellersville\, PA\,
  United States
GEO:40.359346;-75.31162970000003
X-APPLE-STRUCTURED-LOCATION;VALUE=URI;X-ADDRESS=24 West Temple Avenue\, Sel
 lersville\, PA\, United States;X-APPLE-RADIUS=100;X-TITLE=Sellersville The
 atre:geo:40.359346,-75.31162970000003
END:VEVENT
END:VCALENDAR